Workbook
Name altmwhdate: 'Payment Calculation Worksheet'!$D$20:$D$20
Name altmwhrate: 'Payment Calculation Worksheet'!$D$19:$D$19
Name authdate: 'Payment Calculation Worksheet'!$D$7:$D$7
Name authprice: 'HIDDEN BLM parameters'!$B$6
Name authyear: 'Payment Calculation Worksheet'!$D$8
Name baseprice: 'HIDDEN BLM parameters'!$B$6
Name contred: 'Payment Calculation Worksheet'!#REF!
Name dred: 'Payment Calculation Worksheet'!#REF!
Name encumb: 'Payment Calculation Worksheet'!$D$6
Name firstprodest: 'Payment Calculation Worksheet'!$D$25
Name firstprodyr: 'Payment Calculation Worksheet'!$D$24
Name inflate: 'HIDDEN BLM parameters'!$B$2
Name labred: 'Payment Calculation Worksheet'!#REF!
Name Mred: 'Payment Calculation Worksheet'!$D$21
Name mwhred: 'Payment Calculation Worksheet'!$D$21
Name rentsched: 'HIDDEN BLM parameters'!$I$20:$M$31
Name share: 'HIDDEN BLM parameters'!$B$3

Sheet Instructions
B2: The worksheet is for rights-of-way issued in 2024-2025, and existing holders that the BLM re-issues a ROW for, must be completed as fully as you are able to in order to calculate the payment for the respective year. Uncolored blocks may be filled by drop down selection or through manual entry.
B4: The worksheet is separated into four sections labeled A - D where;
B5: A - is the general authorization information used to set the parameters of the worksheet.
B6: B- is the acreage rent input and summary information
B7: C- is the capacity fee inputs, including estimated first year of energy generation.
B8: D- is the input for yearly energy generation to calculate the initial and actual bill amounts.
B10: Note: Worksheet has prefilled fields and conditional phrasing in the input fields. "Deleting" an entry may result in an error in the calculation.
B12: Section A - General Info
B13: Row # | C13: Instruction and explanation
B14: 3 | C14: Enter name of right-of-way (ROW) holder. Example : Bright Breeze, LLC
B15: 4 | C15: Enter right-of-way number provided by BLM when issuing the ROW. Does not affect calculation. Used for orderly administration of case records.
B16: 5 | C16: Select drop-down for type of energy development.
B17: 6 | C17: Shows the encumbrance factor. Requires completing row 5.
B18: 7 | C18: Enter the date that the ROW was issued by the BLM. For existing holders that convert to the new rate methodology, enter the date that the BLM re-issued your right-of-way.
B19: 8 | C19: Shows the year the authorization was issued. Requires completing row 7.
B20: 9 | C20: Enter the number of years the ROW is issued for. This may be issued for up to 50 years. For existing holders that convert to the new rate methodology, enter the number of years remaining for your right-of-way.
B21: 10 | C21: Shows the expiration date of the ROW. Requires completing row 7 and 9.
B23: Section B - Acreage Rent
B24: Row # | C24: Instruction and explanation
B25: 12 | C25: Select drop-down for the number of counties the ROW is issued in. Worksheet provides space for up to 4 counties.
B26: 13 | C26: Enter county name, one each per column provided.
B27: 14 | C27: Select from drop down the state name, one each per column provided matching the county location in row 13.
B28: 15 | C28: Enter number of unrounded acres of the right-of-way located within the county. This will later be rounded appropriately, per BLM business rules, to the nearest tenth acre when calculating the acreage rent.
B29: 16 | C29: Shows the total unrounded acreage entered into the worksheet for the county/state inputs. Requires completing rows 13 -15.
B31: Section C - Capacity Fee
B32: Row # | C32: Instruction and explanation
B33: 18 | C33: Enter the nameplate capacity of the energy development. Does not affect calculation. Used for orderly administration of case records.
B34: 19 | C34: Enter the BLM approved Alternative MWh rate. Alternative rate must be entered in as the $/MWh. The alternative MWh rate may be conditionally approved by the BLM at time of issuance and qualified for at a later date. Once approved by the BLM, the alternative MWh rate will be used to calculate the capacity fee for the remaining years of the ROW term.
B35: 20 | C35: Enter date that the BLM approved the alternative MWh rate. Requires completing both rows 19 and 20 to calculate the alternative MWh rate. See 43 CFR 2806.52(b)(1)(v) for applying the alternative MWh rate.
B36: 21 | C36: Shows the MWh reduction for the energy development. If the rate is approved at the time of issuance, make sure this date matches the date in row 7, Date ROW issued. Requires completing row 7 to calculate the capacity fee if alternative rate is used.
B37: 22 | C37: Enter date that the elective reduction, domestic content reduction, was qualified for. Used in calculating the capacity fee. This may be conditionally approved by the BLM at time of issuance and qualified for at a later date. Once approved by the BLM, this will include a 20% reduction when calculating the capacity fee. See 43 CFR 2806.52(b)(1)(v) for applying the domestic content reduction.
B38: 23 | C38: Enter date that the elective reduction, project labor agreement reduction, was qualified for. Used in calculating the capacity fee. This may be conditionally approved by the BLM at time of issuance and qualified for at a later date. If approved by the BLM, this will include a 20% reduction when calculating the capacity fee. See 43 CFR 2806.52(b)(1)(v) for applying the project labor agreements reduction.
B39: 24 | C39: Enter estimated first year of energy generation for this right-of-way term. For existing that the BLM has re-issued the ROW and converted to the new rate methodology, enter the year the BLM re-issued your right-of-way.
B40: 25 | C40: Enter number of estimated megawatt hours (MWh) of energy generation for the first year that energy generation is expected to begin for the right-of-way. For existing that the BLM has re-issued the ROW and converted to the new rate methodology, provide an estimate of energy generation for the first year under the re-issued right-of-way.
B42: Section D - Yearly Energy Generation
B43: Column | C43: Instruction and explanation
B44: C | C44: Shows the year of the right-of-way term. Requires completing row 7.
B45: D | C45: Shows the estimated energy produced on the right-of-way for the year. First year of energy generation requires completing rows 23 and 24. Second year of energy generation may be provided by holder in a re-estimate in column "E". Third and subsequent years will be calculated per actual energy generation in Column F.
B46: E | C46: Enter re-estimated energy production provided by the holder in the certified annual statement may be provided for each year of the right-of-way. The re-estimate is not required, but generally will be expected if production will change by 25% or more from prior year energy production.
B47: F | C47: Enter actual energy production provided by the holder in the certified annual statement for the year. This will be received the year following energy production and then used to correct the initial bill amount, if necessary, based on estimated energy generation. For example, energy produced in 2025 will be reported in the certified annual statement by October 2026. The BLM will correct any over or under payments for 2025.
...

Sheet Payment Calculation Worksheet
D1: Payment Calculation Worksheet 2024 - 2025
A3: A | B3: General Information | C3: Name of holder
C4: Right-of-way number
C5: Type (Solar, Wind) | D5: Solar
C6: Encumbrance factor (1 or 0.05) | D6: =IF(D5="Solar",1,0.05) -> 1
C7: Date ROW Issued
C8: Year of Issuance | D8: =YEAR(D7) -> 1900
C9: Term of Authorization (1-50 years)
C10: Term Expiration | D10: =DATE(D8+D9,12,31) -> 366
A12: B | B12: Acreage Rent | C12: Number of Counties | D12: 1
C13: County name
C14: State | D14: ZERO | E14: ZERO | F14: ZERO | G14: ZERO
C15: Acres (unrounded)
C16: Total acres (unrounded) | D16: =SUM(D15:G15) -> 0
A18: C | B18: Capacity Fee | C18: Nameplate MW (informational)
C19: Alternative MWh rate ($/MWh) approved | D19: No Alternative Rate
C20: Date Alternative MWh rate approved | D20: No Alternative Rate
C21: MWh reduction | D21: =IF(D8<2036,0.8,IF(D8=2036,0.6,IF(D8=2037,0.4,0.2))) -> 0.8
C22: Date the domestic content reduction approved | D22: Not Yet
C23: Date the project labor agreement reduction approved | D23: Not Yet
C24: Estimated date of first energy production
C25: Estimated MWh first year production (round to 10th)
A28: D | B28: Yearly Energy Generation | C28: Year | D28: Estimated production, MWh, rounded up to 10th | E28: Re-Estimated production, if any - MWh | F28: Actual production - MWh (Certified Annual Statement) | G28: Initial Bill Amount Based on estimated generation | H28: Actual Bill Amount Based on Certfied annual Statement
C29: =authyear -> 1900 | D29: =IF($C29<YEAR(firstprodyr),0,IF($C29=YEAR(firstprodyr),firstprodest,NA())) -> 0 | E29: No Re-estimate Provided | F29: =NA() -> #N/A | G29: ='HIDDEN Bill Pay Est.Act'!G6 -> #N/A | H29: ='HIDDEN Bill Pay Est.Act'!K6 -> #N/A
C30: =IF(C29-authyear+1<$D$9+1,C29+1,NA()) -> #N/A | D30: =IF($C30<YEAR(firstprodyr),0,IF($C30=YEAR(firstprodyr),firstprodest,NA())) -> #N/A | E30: No Re-estimate Provided | F30: =NA() -> #N/A | G30: ='HIDDEN Bill Pay Est.Act'!G7 -> #N/A | H30: ='HIDDEN Bill Pay Est.Act'!K7 -> #N/A
C31: =IF(C30-authyear+1<$D$9+1,C30+1,NA()) -> #N/A | D31: =IF($C31<YEAR(firstprodyr),0,IF($C31=YEAR(firstprodyr),firstprodest,ROUNDUP(F29,1))) -> #N/A | E31: No Re-estimate Provided | F31: =NA() -> #N/A | G31: ='HIDDEN Bill Pay Est.Act'!G8 -> #N/A | H31: ='HIDDEN Bill Pay Est.Act'!K8 -> #N/A
C32: =IF(C31-authyear+1<$D$9+1,C31+1,NA()) -> #N/A | D32: =IF($C32<YEAR(firstprodyr),0,IF($C32=YEAR(firstprodyr),firstprodest,ROUNDUP(F30,1))) -> #N/A | E32: No Re-estimate Provided | F32: =NA() -> #N/A | G32: ='HIDDEN Bill Pay Est.Act'!G9 -> #N/A | H32: ='HIDDEN Bill Pay Est.Act'!K9 -> #N/A
C33: =IF(C32-authyear+1<$D$9+1,C32+1,NA()) -> #N/A | D33: =IF($C33<YEAR(firstprodyr),0,IF($C33=YEAR(firstprodyr),firstprodest,ROUNDUP(F31,1))) -> #N/A | E33: No Re-estimate Provided | F33: =NA() -> #N/A | G33: ='HIDDEN Bill Pay Est.Act'!G10 -> #N/A | H33: ='HIDDEN Bill Pay Est.Act'!K10 -> #N/A
C34: =IF(C33-authyear+1<$D$9+1,C33+1,NA()) -> #N/A | D34: =IF($C34<YEAR(firstprodyr),0,IF($C34=YEAR(firstprodyr),firstprodest,ROUNDUP(F32,1))) -> #N/A | E34: No Re-estimate Provided | F34: =NA() -> #N/A | G34: ='HIDDEN Bill Pay Est.Act'!G11 -> #N/A | H34: ='HIDDEN Bill Pay Est.Act'!K11 -> #N/A
C35: =IF(C34-authyear+1<$D$9+1,C34+1,NA()) -> #N/A | D35: =IF($C35<YEAR(firstprodyr),0,IF($C35=YEAR(firstprodyr),firstprodest,ROUNDUP(F33,1))) -> #N/A | E35: No Re-estimate Provided | F35: =NA() -> #N/A | G35: ='HIDDEN Bill Pay Est.Act'!G12 -> #N/A | H35: ='HIDDEN Bill Pay Est.Act'!K12 -> #N/A
C36: =IF(C35-authyear+1<$D$9+1,C35+1,NA()) -> #N/A | D36: =IF($C36<YEAR(firstprodyr),0,IF($C36=YEAR(firstprodyr),firstprodest,ROUNDUP(F34,1))) -> #N/A | E36: No Re-estimate Provided | F36: =NA() -> #N/A | G36: ='HIDDEN Bill Pay Est.Act'!G13 -> #N/A | H36: ='HIDDEN Bill Pay Est.Act'!K13 -> #N/A
C37: =IF(C36-authyear+1<$D$9+1,C36+1,NA()) -> #N/A | D37: =IF($C37<YEAR(firstprodyr),0,IF($C37=YEAR(firstprodyr),firstprodest,ROUNDUP(F35,1))) -> #N/A | E37: No Re-estimate Provided | F37: =NA() -> #N/A | G37: ='HIDDEN Bill Pay Est.Act'!G14 -> #N/A | H37: ='HIDDEN Bill Pay Est.Act'!K14 -> #N/A
C38: =IF(C37-authyear+1<$D$9+1,C37+1,NA()) -> #N/A | D38: =IF($C38<YEAR(firstprodyr),0,IF($C38=YEAR(firstprodyr),firstprodest,ROUNDUP(F36,1))) -> #N/A | E38: No Re-estimate Provided | F38: =NA() -> #N/A | G38: ='HIDDEN Bill Pay Est.Act'!G15 -> #N/A | H38: ='HIDDEN Bill Pay Est.Act'!K15 -> #N/A
C39: =IF(C38-authyear+1<$D$9+1,C38+1,NA()) -> #N/A | D39: =IF($C39<YEAR(firstprodyr),0,IF($C39=YEAR(firstprodyr),firstprodest,ROUNDUP(F37,1))) -> #N/A | E39: No Re-estimate Provided | F39: =NA() -> #N/A | G39: ='HIDDEN Bill Pay Est.Act'!G16 -> #N/A | H39: ='HIDDEN Bill Pay Est.Act'!K16 -> #N/A
C40: =IF(C39-authyear+1<$D$9+1,C39+1,NA()) -> #N/A | D40: =IF($C40<YEAR(firstprodyr),0,IF($C40=YEAR(firstprodyr),firstprodest,ROUNDUP(F38,1))) -> #N/A | E40: No Re-estimate Provided | F40: =NA() -> #N/A | G40: ='HIDDEN Bill Pay Est.Act'!G17 -> #N/A | H40: ='HIDDEN Bill Pay Est.Act'!K17 -> #N/A
C41: =IF(C40-authyear+1<$D$9+1,C40+1,NA()) -> #N/A | D41: =IF($C41<YEAR(firstprodyr),0,IF($C41=YEAR(firstprodyr),firstprodest,ROUNDUP(F39,1))) -> #N/A | E41: No Re-estimate Provided | F41: =NA() -> #N/A | G41: ='HIDDEN Bill Pay Est.Act'!G18 -> #N/A | H41: ='HIDDEN Bill Pay Est.Act'!K18 -> #N/A
C42: =IF(C41-authyear+1<$D$9+1,C41+1,NA()) -> #N/A | D42: =IF($C42<YEAR(firstprodyr),0,IF($C42=YEAR(firstprodyr),firstprodest,ROUNDUP(F40,1))) -> #N/A | E42: No Re-estimate Provided | F42: =NA() -> #N/A | G42: ='HIDDEN Bill Pay Est.Act'!G19 -> #N/A | H42: ='HIDDEN Bill Pay Est.Act'!K19 -> #N/A
... C79: =IF(C78-authyear+1<$D$9+1,C78+1,NA()) -> #N/A | D79: =IF($C79<YEAR(firstprodyr),0,IF($C79=YEAR(firstprodyr),firstprodest,ROUNDUP(F77,1))) -> #N/A | E79: No Re-estimate Provided | F79: =NA() -> #N/A | G79: ='HIDDEN Bill Pay Est.Act'!G56 -> #N/A | H79: ='HIDDEN Bill Pay Est.Act'!K56 -> #N/A

Sheet HIDDEN BLM parameters
A1: General parameters
A2: Annual Adjustment | B2: 1.03
A3: Rate of Return | B3: 0.07
A4: Year ROW Issued | B4: =authyear -> 1900
A5: MWh rate schedule | E5: MWh Rate | G5: COPY/DROP Rate schedules into this block
A6: Power price in authn yr | B6: =VLOOKUP(authyear,G7:I11,3) -> #N/A | H6: Unrounded Not part of the schedule | I6: Rounded
G7: 2021 | H7: 52.252 | I7: 52.25
G8: 2022 | H8: 53.82 | I8: 53.82
G9: 2023 | H9: 55.434 | I9: 55.43
A10: Domestic Content and PLA reductions | B10: 0 | G10: 2024 | H10: 57.097 | I10: 57.1
B11: 0.2 | G11: 2025 | H11: 58.81 | I11: 58.81
A13: Options for yes/no | B13: Yes | C13: for yes/no/NA | D13: Yes
B14: No | D14: No
D15: NA
C17: Encumbrance
A18: Options for " Type" | B18: Solar | C18: 1 | G18: ACREAGE RENT COPY/DROP Rate schedules into this block
B19: Wind | C19: 0.05 | H19: List: | I19: Schedule for past years | L19: Acreage Rent Schedule
H20: State Abv | I20: 2021 | J20: 2022 | K20: 2023 | L20: 2024 | M20: 2025
A21: Number counties | B21: 1 | F21: States | G21: Arizona | H21: AZ | I21: 2.1 | J21: 2.163 | K21: 2.22789 | L21: 2.29 | M21: 2.36
B22: 2 | G22: California | H22: CA | I22: 12.6 | J22: 12.978 | K22: 13.36734 | L22: 13.77 | M22: 14.18
B23: 3 | G23: Colorado | H23: CO | I23: 5.95 | J23: 6.1285 | K23: 6.312355 | L23: 6.5 | M23: 6.7
B24: 4 | G24: Idaho | H24: ID | I24: 11.8 | J24: 12.154 | K24: 12.51862 | L24: 12.89 | M24: 13.28
G25: Montana | H25: MT | I25: 6.62 | J25: 6.8186 | K25: 7.023158 | L25: 7.23 | M25: 7.45
G26: Nevada | H26: NV | I26: 11 | J26: 11.33 | K26: 11.6699 | L26: 12.02 | M26: 12.38
A27: Part-Year Factors - Rent | G27: New Mexico | H27: NM | I27: 3.05 | J27: 3.1415 | K27: 3.235745 | L27: 3.33 | M27: 3.43
A28: 1 | B28: 0.0833 | G28: Oregon | H28: OR | I28: 12 | J28: 12.36 | K28: 12.7308 | L28: 13.11 | M28: 13.51
A29: 2 | B29: 0.1667 | G29: Utah | H29: UT | I29: 4.625 | J29: 4.76375 | K29: 4.9066625 | L29: 5.05 | M29: 5.21
A30: 3 | B30: 0.25 | G30: Washington | H30: WA | I30: 8 | J30: 8.24 | K30: 8.4872 | L30: 8.74 | M30: 9
A31: 4 | B31: 0.3333 | G31: Wyoming | H31: WY | I31: 4.75 | J31: 4.8925 | K31: 5.039275 | L31: 5.19 | M31: 5.35
A32: 5 | B32: 0.4167 | H32: ZERO | I32: 0 | J32: 0 | K32: 0 | L32: 0 | M32: 0
A33: 6 | B33: 0.5
A34: 7 | B34: 0.5833
A35: 8 | B35: 0.6667
A36: 9 | B36: 0.75
A37: 10 | B37: 0.8333
A38: 11 | B38: 0.9167
A39: 12 | B39: 1
A40: e.g., 12 means the auth date is in December

Sheet HIDDEN Rent calc
C1: auth year | D1: =authyear -> 1900
C2: Month of authrn in the auth year | D2: {=MONTH(authdate)} -> 1
C3: state | D3: ='Payment Calculation Worksheet'!D14 -> ZERO | I3: ='Payment Calculation Worksheet'!E14 -> ZERO | N3: ='Payment Calculation Worksheet'!F14 -> ZERO | S3: ='Payment Calculation Worksheet'!G14 -> ZERO
C4: rent rate lookup from BLM Parameters, pre-rounded | D4: =HLOOKUP('HIDDEN Rent calc'!$D$1,'HIDDEN BLM parameters'!$H$20:$M$32,MATCH('HIDDEN Rent calc'!$D$3,'HIDDEN BLM parameters'!$H$20:$H$32,0)) -> #N/A | I4: =HLOOKUP('HIDDEN Rent calc'!$D$1,'HIDDEN BLM parameters'!$H$20:$M$32,MATCH('HIDDEN Rent calc'!$I$3,'HIDDEN BLM parameters'!$H$20:$H$32,0)) -> #N/A | N4: =HLOOKUP('HIDDEN Rent calc'!$D$1,'HIDDEN BLM parameters'!$H$20:$M$32,MATCH('HIDDEN Rent calc'!$N$3,'HIDDEN BLM parameters'!$H$20:$H$32,0)) -> #N/A | S4: =HLOOKUP('HIDDEN Rent calc'!$D$1,'HIDDEN BLM parameters'!$H$20:$M$32,MATCH('HIDDEN Rent calc'!$S$3,'HIDDEN BLM parameters'!$H$20:$H$32,0)) -> #N/A
C5: Billable acres, rounded up here | D5: =ROUNDUP('Payment Calculation Worksheet'!D15,1) -> 0 | I5: =ROUNDUP('Payment Calculation Worksheet'!E15,1) -> 0 | N5: =ROUNDUP('Payment Calculation Worksheet'!F15,1) -> 0 | S5: =ROUNDUP('Payment Calculation Worksheet'!G15,1) -> 0
D7: A | E7: B | F7: (1+C)^D | G7: A × B × [((1 + C) ^ D)] | I7: A | J7: B | K7: (1+C)^D | L7: A × B × [((1 + C) ^ D)] | N7: A | O7: B | P7: (1+C)^D | Q7: A × B × [((1 + C) ^ D)] | S7: A | T7: B | U7: (1+C)^D | V7: A × B × [((1 + C) ^ D)]
B8: Sum Annual rent | C8: Year | D8: Base Rent rate | E8: encumbrance | F8: Inflate | G8: Rent rate, rounded | H8: Annual rent, rounded | I8: Base Rent rate | J8: encumbrance | K8: Inflate | L8: Rent rate | M8: Annual rent | N8: Base Rent rate | O8: encumbrance | P8: Inflate | Q8: Rent rate | R8: Annual rent | S8: Base Rent rate | T8: encumbrance | U8: Inflate | V8: Rent rate | W8: Annual rent
B9: =H9+M9+R9+W9 -> #N/A | C9: ='Payment Calculation Worksheet'!C29 -> 1900 | D9: =D$4 -> #N/A | E9: =encumb -> 1 | F9: =inflate^($C9-$C$9) -> 1 | G9: =ROUND(D9*E9*F9,2) -> #N/A | H9: =(1-VLOOKUP($D$2,'HIDDEN BLM parameters'!$A$28:$B$39,2))*ROUND(D$5*G9,2) -> #N/A | I9: =I$4 -> #N/A | J9: =encumb -> 1 | K9: =inflate^($C9-$C$9) -> 1 | L9: =ROUND(I9*J9*K9,2) -> #N/A | M9: =(1-VLOOKUP($D$2,'HIDDEN BLM parameters'!$A$28:$B$39,2))*ROUND(I$5*L9,2) -> #N/A | N9: =N$4 -> #N/A | O9: =encumb -> 1 | P9: =inflate^($C9-$C$9) -> 1 | Q9: =ROUND(N9*O9*P9,2) -> #N/A | R9: =(1-VLOOKUP($D$2,'HIDDEN BLM parameters'!$A$28:$B$39,2))*ROUND(N$5*Q9,2) -> #N/A | S9: =S$4 -> #N/A | T9: =encumb -> 1 | U9: =inflate^($C9-$C$9) -> 1 | V9: =ROUND(S9*T9*U9,2) -> #N/A | W9: =(1-VLOOKUP($D$2,'HIDDEN BLM parameters'!$A$28:$B$39,2))*ROUND(S$5*V9,2) -> #N/A
B10: =H10+M10+R10+W10 -> #N/A | C10: ='Payment Calculation Worksheet'!C30 -> #N/A | D10: =D$4 -> #N/A | E10: =encumb -> 1 | F10: =inflate^($C10-$C$9) -> #N/A | G10: =ROUND(D10*E10*F10,2) -> #N/A | H10: =ROUND(D$5*G10,2) -> #N/A | I10: =I$4 -> #N/A | J10: =encumb -> 1 | K10: =inflate^($C10-$C$9) -> #N/A | L10: =ROUND(I10*J10*K10,2) -> #N/A | M10: =ROUND(I$5*L10,2) -> #N/A | N10: =N$4 -> #N/A | O10: =encumb -> 1 | P10: =inflate^($C10-$C$9) -> #N/A | Q10: =ROUND(N10*O10*P10,2) -> #N/A | R10: =ROUND(N$5*Q10,2) -> #N/A | S10: =S$4 -> #N/A | T10: =encumb -> 1 | U10: =inflate^($C10-$C$9) -> #N/A | V10: =ROUND(S10*T10*U10,2) -> #N/A | W10: =ROUND(S$5*V10,2) -> #N/A
B11: =H11+M11+R11+W11 -> #N/A | C11: ='Payment Calculation Worksheet'!C31 -> #N/A | D11: =D$4 -> #N/A | E11: =encumb -> 1 | F11: =inflate^($C11-$C$9) -> #N/A | G11: =ROUND(D11*E11*F11,2) -> #N/A | H11: =ROUND(D$5*G11,2) -> #N/A | I11: =I$4 -> #N/A | J11: =encumb -> 1 | K11: =inflate^($C11-$C$9) -> #N/A | L11: =ROUND(I11*J11*K11,2) -> #N/A | M11: =ROUND(I$5*L11,2) -> #N/A | N11: =N$4 -> #N/A | O11: =encumb -> 1 | P11: =inflate^($C11-$C$9) -> #N/A | Q11: =ROUND(N11*O11*P11,2) -> #N/A | R11: =ROUND(N$5*Q11,2) -> #N/A | S11: =S$4 -> #N/A | T11: =encumb -> 1 | U11: =inflate^($C11-$C$9) -> #N/A | V11: =ROUND(S11*T11*U11,2) -> #N/A | W11: =ROUND(S$5*V11,2) -> #N/A
B12: =H12+M12+R12+W12 -> #N/A | C12: ='Payment Calculation Worksheet'!C32 -> #N/A | D12: =D$4 -> #N/A | E12: =encumb -> 1 | F12: =inflate^($C12-$C$9) -> #N/A | G12: =ROUND(D12*E12*F12,2) -> #N/A | H12: =ROUND(D$5*G12,2) -> #N/A | I12: =I$4 -> #N/A | J12: =encumb -> 1 | K12: =inflate^($C12-$C$9) -> #N/A | L12: =ROUND(I12*J12*K12,2) -> #N/A | M12: =ROUND(I$5*L12,2) -> #N/A | N12: =N$4 -> #N/A | O12: =encumb -> 1 | P12: =inflate^($C12-$C$9) -> #N/A | Q12: =ROUND(N12*O12*P12,2) -> #N/A | R12: =ROUND(N$5*Q12,2) -> #N/A | S12: =S$4 -> #N/A | T12: =encumb -> 1 | U12: =inflate^($C12-$C$9) -> #N/A | V12: =ROUND(S12*T12*U12,2) -> #N/A | W12: =ROUND(S$5*V12,2) -> #N/A
B13: =H13+M13+R13+W13 -> #N/A | C13: ='Payment Calculation Worksheet'!C33 -> #N/A | D13: =D$4 -> #N/A | E13: =encumb -> 1 | F13: =inflate^($C13-$C$9) -> #N/A | G13: =ROUND(D13*E13*F13,2) -> #N/A | H13: =ROUND(D$5*G13,2) -> #N/A | I13: =I$4 -> #N/A | J13: =encumb -> 1 | K13: =inflate^($C13-$C$9) -> #N/A | L13: =ROUND(I13*J13*K13,2) -> #N/A | M13: =ROUND(I$5*L13,2) -> #N/A | N13: =N$4 -> #N/A | O13: =encumb -> 1 | P13: =inflate^($C13-$C$9) -> #N/A | Q13: =ROUND(N13*O13*P13,2) -> #N/A | R13: =ROUND(N$5*Q13,2) -> #N/A | S13: =S$4 -> #N/A | T13: =encumb -> 1 | U13: =inflate^($C13-$C$9) -> #N/A | V13: =ROUND(S13*T13*U13,2) -> #N/A | W13: =ROUND(S$5*V13,2) -> #N/A
B14: =H14+M14+R14+W14 -> #N/A | C14: ='Payment Calculation Worksheet'!C34 -> #N/A | D14: =D$4 -> #N/A | E14: =encumb -> 1 | F14: =inflate^($C14-$C$9) -> #N/A | G14: =ROUND(D14*E14*F14,2) -> #N/A | H14: =ROUND(D$5*G14,2) -> #N/A | I14: =I$4 -> #N/A | J14: =encumb -> 1 | K14: =inflate^($C14-$C$9) -> #N/A | L14: =ROUND(I14*J14*K14,2) -> #N/A | M14: =ROUND(I$5*L14,2) -> #N/A | N14: =N$4 -> #N/A | O14: =encumb -> 1 | P14: =inflate^($C14-$C$9) -> #N/A | Q14: =ROUND(N14*O14*P14,2) -> #N/A | R14: =ROUND(N$5*Q14,2) -> #N/A | S14: =S$4 -> #N/A | T14: =encumb -> 1 | U14: =inflate^($C14-$C$9) -> #N/A | V14: =ROUND(S14*T14*U14,2) -> #N/A | W14: =ROUND(S$5*V14,2) -> #N/A
B15: =H15+M15+R15+W15 -> #N/A | C15: ='Payment Calculation Worksheet'!C35 -> #N/A | D15: =D$4 -> #N/A | E15: =encumb -> 1 | F15: =inflate^($C15-$C$9) -> #N/A | G15: =ROUND(D15*E15*F15,2) -> #N/A | H15: =ROUND(D$5*G15,2) -> #N/A | I15: =I$4 -> #N/A | J15: =encumb -> 1 | K15: =inflate^($C15-$C$9) -> #N/A | L15: =ROUND(I15*J15*K15,2) -> #N/A | M15: =ROUND(I$5*L15,2) -> #N/A | N15: =N$4 -> #N/A | O15: =encumb -> 1 | P15: =inflate^($C15-$C$9) -> #N/A | Q15: =ROUND(N15*O15*P15,2) -> #N/A | R15: =ROUND(N$5*Q15,2) -> #N/A | S15: =S$4 -> #N/A | T15: =encumb -> 1 | U15: =inflate^($C15-$C$9) -> #N/A | V15: =ROUND(S15*T15*U15,2) -> #N/A | W15: =ROUND(S$5*V15,2) -> #N/A
B16: =H16+M16+R16+W16 -> #N/A | C16: ='Payment Calculation Worksheet'!C36 -> #N/A | D16: =D$4 -> #N/A | E16: =encumb -> 1 | F16: =inflate^($C16-$C$9) -> #N/A | G16: =ROUND(D16*E16*F16,2) -> #N/A | H16: =ROUND(D$5*G16,2) -> #N/A | I16: =I$4 -> #N/A | J16: =encumb -> 1 | K16: =inflate^($C16-$C$9) -> #N/A | L16: =ROUND(I16*J16*K16,2) -> #N/A | M16: =ROUND(I$5*L16,2) -> #N/A | N16: =N$4 -> #N/A | O16: =encumb -> 1 | P16: =inflate^($C16-$C$9) -> #N/A | Q16: =ROUND(N16*O16*P16,2) -> #N/A | R16: =ROUND(N$5*Q16,2) -> #N/A | S16: =S$4 -> #N/A | T16: =encumb -> 1 | U16: =inflate^($C16-$C$9) -> #N/A | V16: =ROUND(S16*T16*U16,2) -> #N/A | W16: =ROUND(S$5*V16,2) -> #N/A
B17: =H17+M17+R17+W17 -> #N/A | C17: ='Payment Calculation Worksheet'!C37 -> #N/A | D17: =D$4 -> #N/A | E17: =encumb -> 1 | F17: =inflate^($C17-$C$9) -> #N/A | G17: =ROUND(D17*E17*F17,2) -> #N/A | H17: =ROUND(D$5*G17,2) -> #N/A | I17: =I$4 -> #N/A | J17: =encumb -> 1 | K17: =inflate^($C17-$C$9) -> #N/A | L17: =ROUND(I17*J17*K17,2) -> #N/A | M17: =ROUND(I$5*L17,2) -> #N/A | N17: =N$4 -> #N/A | O17: =encumb -> 1 | P17: =inflate^($C17-$C$9) -> #N/A | Q17: =ROUND(N17*O17*P17,2) -> #N/A | R17: =ROUND(N$5*Q17,2) -> #N/A | S17: =S$4 -> #N/A | T17: =encumb -> 1 | U17: =inflate^($C17-$C$9) -> #N/A | V17: =ROUND(S17*T17*U17,2) -> #N/A | W17: =ROUND(S$5*V17,2) -> #N/A
B18: =H18+M18+R18+W18 -> #N/A | C18: ='Payment Calculation Worksheet'!C38 -> #N/A | D18: =D$4 -> #N/A | E18: =encumb -> 1 | F18: =inflate^($C18-$C$9) -> #N/A | G18: =ROUND(D18*E18*F18,2) -> #N/A | H18: =ROUND(D$5*G18,2) -> #N/A | I18: =I$4 -> #N/A | J18: =encumb -> 1 | K18: =inflate^($C18-$C$9) -> #N/A | L18: =ROUND(I18*J18*K18,2) -> #N/A | M18: =ROUND(I$5*L18,2) -> #N/A | N18: =N$4 -> #N/A | O18: =encumb -> 1 | P18: =inflate^($C18-$C$9) -> #N/A | Q18: =ROUND(N18*O18*P18,2) -> #N/A | R18: =ROUND(N$5*Q18,2) -> #N/A | S18: =S$4 -> #N/A | T18: =encumb -> 1 | U18: =inflate^($C18-$C$9) -> #N/A | V18: =ROUND(S18*T18*U18,2) -> #N/A | W18: =ROUND(S$5*V18,2) -> #N/A
B19: =H19+M19+R19+W19 -> #N/A | C19: ='Payment Calculation Worksheet'!C39 -> #N/A | D19: =D$4 -> #N/A | E19: =encumb -> 1 | F19: =inflate^($C19-$C$9) -> #N/A | G19: =ROUND(D19*E19*F19,2) -> #N/A | H19: =ROUND(D$5*G19,2) -> #N/A | I19: =I$4 -> #N/A | J19: =encumb -> 1 | K19: =inflate^($C19-$C$9) -> #N/A | L19: =ROUND(I19*J19*K19,2) -> #N/A | M19: =ROUND(I$5*L19,2) -> #N/A | N19: =N$4 -> #N/A | O19: =encumb -> 1 | P19: =inflate^($C19-$C$9) -> #N/A | Q19: =ROUND(N19*O19*P19,2) -> #N/A | R19: =ROUND(N$5*Q19,2) -> #N/A | S19: =S$4 -> #N/A | T19: =encumb -> 1 | U19: =inflate^($C19-$C$9) -> #N/A | V19: =ROUND(S19*T19*U19,2) -> #N/A | W19: =ROUND(S$5*V19,2) -> #N/A
B20: =H20+M20+R20+W20 -> #N/A | C20: ='Payment Calculation Worksheet'!C40 -> #N/A | D20: =D$4 -> #N/A | E20: =encumb -> 1 | F20: =inflate^($C20-$C$9) -> #N/A | G20: =ROUND(D20*E20*F20,2) -> #N/A | H20: =ROUND(D$5*G20,2) -> #N/A | I20: =I$4 -> #N/A | J20: =encumb -> 1 | K20: =inflate^($C20-$C$9) -> #N/A | L20: =ROUND(I20*J20*K20,2) -> #N/A | M20: =ROUND(I$5*L20,2) -> #N/A | N20: =N$4 -> #N/A | O20: =encumb -> 1 | P20: =inflate^($C20-$C$9) -> #N/A | Q20: =ROUND(N20*O20*P20,2) -> #N/A | R20: =ROUND(N$5*Q20,2) -> #N/A | S20: =S$4 -> #N/A | T20: =encumb -> 1 | U20: =inflate^($C20-$C$9) -> #N/A | V20: =ROUND(S20*T20*U20,2) -> #N/A | W20: =ROUND(S$5*V20,2) -> #N/A
B21: =H21+M21+R21+W21 -> #N/A | C21: ='Payment Calculation Worksheet'!C41 -> #N/A | D21: =D$4 -> #N/A | E21: =encumb -> 1 | F21: =inflate^($C21-$C$9) -> #N/A | G21: =ROUND(D21*E21*F21,2) -> #N/A | H21: =ROUND(D$5*G21,2) -> #N/A | I21: =I$4 -> #N/A | J21: =encumb -> 1 | K21: =inflate^($C21-$C$9) -> #N/A | L21: =ROUND(I21*J21*K21,2) -> #N/A | M21: =ROUND(I$5*L21,2) -> #N/A | N21: =N$4 -> #N/A | O21: =encumb -> 1 | P21: =inflate^($C21-$C$9) -> #N/A | Q21: =ROUND(N21*O21*P21,2) -> #N/A | R21: =ROUND(N$5*Q21,2) -> #N/A | S21: =S$4 -> #N/A | T21: =encumb -> 1 | U21: =inflate^($C21-$C$9) -> #N/A | V21: =ROUND(S21*T21*U21,2) -> #N/A | W21: =ROUND(S$5*V21,2) -> #N/A
... B59: =H59+M59+R59+W59 -> #N/A | C59: ='Payment Calculation Worksheet'!C79 -> #N/A | D59: =D$4 -> #N/A | E59: =encumb -> 1 | F59: =inflate^($C59-$C$9) -> #N/A | G59: =ROUND(D59*E59*F59,2) -> #N/A | H59: =ROUND(D$5*G59,2) -> #N/A | I59: =I$4 -> #N/A | J59: =encumb -> 1 | K59: =inflate^($C59-$C$9) -> #N/A | L59: =ROUND(I59*J59*K59,2) -> #N/A | M59: =ROUND(I$5*L59,2) -> #N/A | N59: =N$4 -> #N/A | O59: =encumb -> 1 | P59: =inflate^($C59-$C$9) -> #N/A | Q59: =ROUND(N59*O59*P59,2) -> #N/A | R59: =ROUND(N$5*Q59,2) -> #N/A | S59: =S$4 -> #N/A | T59: =encumb -> 1 | U59: =inflate^($C59-$C$9) -> #N/A | V59: =ROUND(S59*T59*U59,2) -> #N/A | W59: =ROUND(S$5*V59,2) -> #N/A

Sheet HIDDEN MWh Fee Calculation
A1: auth year
A2: =authyear -> 1900
Q3: round UP
B4: A | C4: B | D4: C | E4: D | F4: (1+E)^F | G4: G | H4: A x B x C x D x [(1 + E) ^F] x G | I4: Year | J4: Estimate | L4: Re-estimate | O4: Actual
A5: Year | B5: MWh Rate | C5: MWh reduction | D5: Domestic Cont reduction | E5: PLA reduction | F5: Annual Adjustment | G5: Rate of Return | H5: Reduced MWh rate, unrounded | J5: Estimated MWh prod. (rounded up to nearest 10th) | K5: Estimated capacity fee (rounded up to 100th) | L5: Re-estimated MWh production (unrounded) | M5: Col L rounded up to 10th | N5: Re-estimated Capacity Fee (rounded conventionally to 100th) | O5: MWh produced Certified Annual Statement (rounded up to nearest 10th) | P5: Actual capacity fee. | Q5: Col P rounded up to 100th. Use this on Bill pay tab.
A6: ='Payment Calculation Worksheet'!C29 -> 1900 | B6: {=IF(altmwhrate <> "No Alternative Rate",IF(OR(authdate = altmwhdate, A6> YEAR(altmwhdate)),altmwhrate, authprice),authprice)} -> #N/A | C6: =Mred -> 0.8 | D6: =IF( 'Payment Calculation Worksheet'!$D$22 = "NOT YET",0,IF(A6>YEAR('Payment Calculation Worksheet'!$D$22),0.2,0)) -> 0 | E6: =IF( 'Payment Calculation Worksheet'!$D$23 = "NOT YET",0,IF(A6>YEAR('Payment Calculation Worksheet'!$D$23),0.2,0)) -> 0 | F6: =inflate^($A6-$A$6) -> 1 | G6: =share -> 0.07 | H6: =B6*F6*share*(1-mwhred)*(1-D6)*(1-E6) -> #N/A | I6: =A6 -> 1900 | J6: =ROUNDUP('Payment Calculation Worksheet'!D29,1) -> 0 | K6: =ROUNDUP(J6*H6,2) -> #N/A | L6: ='Payment Calculation Worksheet'!E29 -> No Re-estimate Provided | M6: =IF(L6="No Re-estimate Provided","No Re-estimate Provided",ROUNDUP(L6,1)) -> No Re-estimate Provided | N6: =IF(M6="No Re-estimate Provided","No Re-estimate Provided",ROUNDUP(L6*H6,2)) -> No Re-estimate Provided | O6: =ROUNDUP('Payment Calculation Worksheet'!F29,1) -> #N/A | P6: =O6*H6 -> #N/A | Q6: =ROUNDUP(P6,2) -> #N/A
A7: ='Payment Calculation Worksheet'!C30 -> #N/A | B7: {=IF(altmwhrate <> "No Alternative Rate",IF(OR(authdate = altmwhdate, A7> YEAR(altmwhdate)),altmwhrate, authprice),authprice)} -> #N/A | C7: =Mred -> 0.8 | D7: =IF( 'Payment Calculation Worksheet'!$D$22 = "NOT YET",0,IF(A7>YEAR('Payment Calculation Worksheet'!$D$22),0.2,0)) -> 0 | E7: =IF( 'Payment Calculation Worksheet'!$D$23 = "NOT YET",0,IF(A7>YEAR('Payment Calculation Worksheet'!$D$23),0.2,0)) -> 0 | F7: =inflate^($A7-$A$6) -> #N/A | G7: =share -> 0.07 | H7: =B7*F7*share*(1-mwhred)*(1-D7)*(1-E7) -> #N/A | I7: =A7 -> #N/A | J7: =ROUNDUP('Payment Calculation Worksheet'!D30,1) -> #N/A | K7: =ROUNDUP(J7*H7,2) -> #N/A | L7: ='Payment Calculation Worksheet'!E30 -> No Re-estimate Provided | M7: =IF(L7="No Re-estimate Provided","No Re-estimate Provided",ROUNDUP(L7,1)) -> No Re-estimate Provided | N7: =IF(M7="No Re-estimate Provided","No Re-estimate Provided",ROUNDUP(L7*H7,2)) -> No Re-estimate Provided | O7: =ROUNDUP('Payment Calculation Worksheet'!F30,1) -> #N/A | P7: =O7*H7 -> #N/A | Q7: =ROUNDUP(P7,2) -> #N/A
A8: ='Payment Calculation Worksheet'!C31 -> #N/A | B8: {=IF(altmwhrate <> "No Alternative Rate",IF(OR(authdate = altmwhdate, A8> YEAR(altmwhdate)),altmwhrate, authprice),authprice)} -> #N/A | C8: =Mred -> 0.8 | D8: =IF( 'Payment Calculation Worksheet'!$D$22 = "NOT YET",0,IF(A8>YEAR('Payment Calculation Worksheet'!$D$22),0.2,0)) -> 0 | E8: =IF( 'Payment Calculation Worksheet'!$D$23 = "NOT YET",0,IF(A8>YEAR('Payment Calculation Worksheet'!$D$23),0.2,0)) -> 0 | F8: =inflate^($A8-$A$6) -> #N/A | G8: =share -> 0.07 | H8: =B8*F8*share*(1-mwhred)*(1-D8)*(1-E8) -> #N/A | I8: =A8 -> #N/A | J8: =ROUNDUP('Payment Calculation Worksheet'!D31,1) -> #N/A | K8: =ROUNDUP(J8*H8,2) -> #N/A | L8: ='Payment Calculation Worksheet'!E31 -> No Re-estimate Provided | M8: =IF(L8="No Re-estimate Provided","No Re-estimate Provided",ROUNDUP(L8,1)) -> No Re-estimate Provided | N8: =IF(M8="No Re-estimate Provided","No Re-estimate Provided",ROUNDUP(L8*H8,2)) -> No Re-estimate Provided | O8: =ROUNDUP('Payment Calculation Worksheet'!F31,1) -> #N/A | P8: =O8*H8 -> #N/A | Q8: =ROUNDUP(P8,2) -> #N/A
A9: ='Payment Calculation Worksheet'!C32 -> #N/A | B9: {=IF(altmwhrate <> "No Alternative Rate",IF(OR(authdate = altmwhdate, A9> YEAR(altmwhdate)),altmwhrate, authprice),authprice)} -> #N/A | C9: =Mred -> 0.8 | D9: =IF( 'Payment Calculation Worksheet'!$D$22 = "NOT YET",0,IF(A9>YEAR('Payment Calculation Worksheet'!$D$22),0.2,0)) -> 0 | E9: =IF( 'Payment Calculation Worksheet'!$D$23 = "NOT YET",0,IF(A9>YEAR('Payment Calculation Worksheet'!$D$23),0.2,0)) -> 0 | F9: =inflate^($A9-$A$6) -> #N/A | G9: =share -> 0.07 | H9: =B9*F9*share*(1-mwhred)*(1-D9)*(1-E9) -> #N/A | I9: =A9 -> #N/A | J9: =ROUNDUP('Payment Calculation Worksheet'!D32,1) -> #N/A | K9: =ROUNDUP(J9*H9,2) -> #N/A | L9: ='Payment Calculation Worksheet'!E32 -> No Re-estimate Provided | M9: =IF(L9="No Re-estimate Provided","No Re-estimate Provided",ROUNDUP(L9,1)) -> No Re-estimate Provided | N9: =IF(M9="No Re-estimate Provided","No Re-estimate Provided",ROUNDUP(L9*H9,2)) -> No Re-estimate Provided | O9: =ROUNDUP('Payment Calculation Worksheet'!F32,1) -> #N/A | P9: =O9*H9 -> #N/A | Q9: =ROUNDUP(P9,2) -> #N/A
A10: ='Payment Calculation Worksheet'!C33 -> #N/A | B10: {=IF(altmwhrate <> "No Alternative Rate",IF(OR(authdate = altmwhdate, A10> YEAR(altmwhdate)),altmwhrate, authprice),authprice)} -> #N/A | C10: =Mred -> 0.8 | D10: =IF( 'Payment Calculation Worksheet'!$D$22 = "NOT YET",0,IF(A10>YEAR('Payment Calculation Worksheet'!$D$22),0.2,0)) -> 0 | E10: =IF( 'Payment Calculation Worksheet'!$D$23 = "NOT YET",0,IF(A10>YEAR('Payment Calculation Worksheet'!$D$23),0.2,0)) -> 0 | F10: =inflate^($A10-$A$6) -> #N/A | G10: =share -> 0.07 | H10: =B10*F10*share*(1-mwhred)*(1-D10)*(1-E10) -> #N/A | I10: =A10 -> #N/A | J10: =ROUNDUP('Payment Calculation Worksheet'!D33,1) -> #N/A | K10: =ROUNDUP(J10*H10,2) -> #N/A | L10: ='Payment Calculation Worksheet'!E33 -> No Re-estimate Provided | M10: =IF(L10="No Re-estimate Provided","No Re-estimate Provided",ROUNDUP(L10,1)) -> No Re-estimate Provided | N10: =IF(M10="No Re-estimate Provided","No Re-estimate Provided",ROUNDUP(L10*H10,2)) -> No Re-estimate Provided | O10: =ROUNDUP('Payment Calculation Worksheet'!F33,1) -> #N/A | P10: =O10*H10 -> #N/A | Q10: =ROUNDUP(P10,2) -> #N/A
A11: ='Payment Calculation Worksheet'!C34 -> #N/A | B11: {=IF(altmwhrate <> "No Alternative Rate",IF(OR(authdate = altmwhdate, A11> YEAR(altmwhdate)),altmwhrate, authprice),authprice)} -> #N/A | C11: =Mred -> 0.8 | D11: =IF( 'Payment Calculation Worksheet'!$D$22 = "NOT YET",0,IF(A11>YEAR('Payment Calculation Worksheet'!$D$22),0.2,0)) -> 0 | E11: =IF( 'Payment Calculation Worksheet'!$D$23 = "NOT YET",0,IF(A11>YEAR('Payment Calculation Worksheet'!$D$23),0.2,0)) -> 0 | F11: =inflate^($A11-$A$6) -> #N/A | G11: =share -> 0.07 | H11: =B11*F11*share*(1-mwhred)*(1-D11)*(1-E11) -> #N/A | I11: =A11 -> #N/A | J11: =ROUNDUP('Payment Calculation Worksheet'!D34,1) -> #N/A | K11: =ROUNDUP(J11*H11,2) -> #N/A | L11: ='Payment Calculation Worksheet'!E34 -> No Re-estimate Provided | M11: =IF(L11="No Re-estimate Provided","No Re-estimate Provided",ROUNDUP(L11,1)) -> No Re-estimate Provided | N11: =IF(M11="No Re-estimate Provided","No Re-estimate Provided",ROUNDUP(L11*H11,2)) -> No Re-estimate Provided | O11: =ROUNDUP('Payment Calculation Worksheet'!F34,1) -> #N/A | P11: =O11*H11 -> #N/A | Q11: =ROUNDUP(P11,2) -> #N/A
A12: ='Payment Calculation Worksheet'!C35 -> #N/A | B12: {=IF(altmwhrate <> "No Alternative Rate",IF(OR(authdate = altmwhdate, A12> YEAR(altmwhdate)),altmwhrate, authprice),authprice)} -> #N/A | C12: =Mred -> 0.8 | D12: =IF( 'Payment Calculation Worksheet'!$D$22 = "NOT YET",0,IF(A12>YEAR('Payment Calculation Worksheet'!$D$22),0.2,0)) -> 0 | E12: =IF( 'Payment Calculation Worksheet'!$D$23 = "NOT YET",0,IF(A12>YEAR('Payment Calculation Worksheet'!$D$23),0.2,0)) -> 0 | F12: =inflate^($A12-$A$6) -> #N/A | G12: =share -> 0.07 | H12: =B12*F12*share*(1-mwhred)*(1-D12)*(1-E12) -> #N/A | I12: =A12 -> #N/A | J12: =ROUNDUP('Payment Calculation Worksheet'!D35,1) -> #N/A | K12: =ROUNDUP(J12*H12,2) -> #N/A | L12: ='Payment Calculation Worksheet'!E35 -> No Re-estimate Provided | M12: =IF(L12="No Re-estimate Provided","No Re-estimate Provided",ROUNDUP(L12,1)) -> No Re-estimate Provided | N12: =IF(M12="No Re-estimate Provided","No Re-estimate Provided",ROUNDUP(L12*H12,2)) -> No Re-estimate Provided | O12: =ROUNDUP('Payment Calculation Worksheet'!F35,1) -> #N/A | P12: =O12*H12 -> #N/A | Q12: =ROUNDUP(P12,2) -> #N/A
A13: ='Payment Calculation Worksheet'!C36 -> #N/A | B13: {=IF(altmwhrate <> "No Alternative Rate",IF(OR(authdate = altmwhdate, A13> YEAR(altmwhdate)),altmwhrate, authprice),authprice)} -> #N/A | C13: =Mred -> 0.8 | D13: =IF( 'Payment Calculation Worksheet'!$D$22 = "NOT YET",0,IF(A13>YEAR('Payment Calculation Worksheet'!$D$22),0.2,0)) -> 0 | E13: =IF( 'Payment Calculation Worksheet'!$D$23 = "NOT YET",0,IF(A13>YEAR('Payment Calculation Worksheet'!$D$23),0.2,0)) -> 0 | F13: =inflate^($A13-$A$6) -> #N/A | G13: =share -> 0.07 | H13: =B13*F13*share*(1-mwhred)*(1-D13)*(1-E13) -> #N/A | I13: =A13 -> #N/A | J13: =ROUNDUP('Payment Calculation Worksheet'!D36,1) -> #N/A | K13: =ROUNDUP(J13*H13,2) -> #N/A | L13: ='Payment Calculation Worksheet'!E36 -> No Re-estimate Provided | M13: =IF(L13="No Re-estimate Provided","No Re-estimate Provided",ROUNDUP(L13,1)) -> No Re-estimate Provided | N13: =IF(M13="No Re-estimate Provided","No Re-estimate Provided",ROUNDUP(L13*H13,2)) -> No Re-estimate Provided | O13: =ROUNDUP('Payment Calculation Worksheet'!F36,1) -> #N/A | P13: =O13*H13 -> #N/A | Q13: =ROUNDUP(P13,2) -> #N/A
A14: ='Payment Calculation Worksheet'!C37 -> #N/A | B14: {=IF(altmwhrate <> "No Alternative Rate",IF(OR(authdate = altmwhdate, A14> YEAR(altmwhdate)),altmwhrate, authprice),authprice)} -> #N/A | C14: =Mred -> 0.8 | D14: =IF( 'Payment Calculation Worksheet'!$D$22 = "NOT YET",0,IF(A14>YEAR('Payment Calculation Worksheet'!$D$22),0.2,0)) -> 0 | E14: =IF( 'Payment Calculation Worksheet'!$D$23 = "NOT YET",0,IF(A14>YEAR('Payment Calculation Worksheet'!$D$23),0.2,0)) -> 0 | F14: =inflate^($A14-$A$6) -> #N/A | G14: =share -> 0.07 | H14: =B14*F14*share*(1-mwhred)*(1-D14)*(1-E14) -> #N/A | I14: =A14 -> #N/A | J14: =ROUNDUP('Payment Calculation Worksheet'!D37,1) -> #N/A | K14: =ROUNDUP(J14*H14,2) -> #N/A | L14: ='Payment Calculation Worksheet'!E37 -> No Re-estimate Provided | M14: =IF(L14="No Re-estimate Provided","No Re-estimate Provided",ROUNDUP(L14,1)) -> No Re-estimate Provided | N14: =IF(M14="No Re-estimate Provided","No Re-estimate Provided",ROUNDUP(L14*H14,2)) -> No Re-estimate Provided | O14: =ROUNDUP('Payment Calculation Worksheet'!F37,1) -> #N/A | P14: =O14*H14 -> #N/A | Q14: =ROUNDUP(P14,2) -> #N/A
A15: ='Payment Calculation Worksheet'!C38 -> #N/A | B15: {=IF(altmwhrate <> "No Alternative Rate",IF(OR(authdate = altmwhdate, A15> YEAR(altmwhdate)),altmwhrate, authprice),authprice)} -> #N/A | C15: =Mred -> 0.8 | D15: =IF( 'Payment Calculation Worksheet'!$D$22 = "NOT YET",0,IF(A15>YEAR('Payment Calculation Worksheet'!$D$22),0.2,0)) -> 0 | E15: =IF( 'Payment Calculation Worksheet'!$D$23 = "NOT YET",0,IF(A15>YEAR('Payment Calculation Worksheet'!$D$23),0.2,0)) -> 0 | F15: =inflate^($A15-$A$6) -> #N/A | G15: =share -> 0.07 | H15: =B15*F15*share*(1-mwhred)*(1-D15)*(1-E15) -> #N/A | I15: =A15 -> #N/A | J15: =ROUNDUP('Payment Calculation Worksheet'!D38,1) -> #N/A | K15: =ROUNDUP(J15*H15,2) -> #N/A | L15: ='Payment Calculation Worksheet'!E38 -> No Re-estimate Provided | M15: =IF(L15="No Re-estimate Provided","No Re-estimate Provided",ROUNDUP(L15,1)) -> No Re-estimate Provided | N15: =IF(M15="No Re-estimate Provided","No Re-estimate Provided",ROUNDUP(L15*H15,2)) -> No Re-estimate Provided | O15: =ROUNDUP('Payment Calculation Worksheet'!F38,1) -> #N/A | P15: =O15*H15 -> #N/A | Q15: =ROUNDUP(P15,2) -> #N/A
A16: ='Payment Calculation Worksheet'!C39 -> #N/A | B16: {=IF(altmwhrate <> "No Alternative Rate",IF(OR(authdate = altmwhdate, A16> YEAR(altmwhdate)),altmwhrate, authprice),authprice)} -> #N/A | C16: =Mred -> 0.8 | D16: =IF( 'Payment Calculation Worksheet'!$D$22 = "NOT YET",0,IF(A16>YEAR('Payment Calculation Worksheet'!$D$22),0.2,0)) -> 0 | E16: =IF( 'Payment Calculation Worksheet'!$D$23 = "NOT YET",0,IF(A16>YEAR('Payment Calculation Worksheet'!$D$23),0.2,0)) -> 0 | F16: =inflate^($A16-$A$6) -> #N/A | G16: =share -> 0.07 | H16: =B16*F16*share*(1-mwhred)*(1-D16)*(1-E16) -> #N/A | I16: =A16 -> #N/A | J16: =ROUNDUP('Payment Calculation Worksheet'!D39,1) -> #N/A | K16: =ROUNDUP(J16*H16,2) -> #N/A | L16: ='Payment Calculation Worksheet'!E39 -> No Re-estimate Provided | M16: =IF(L16="No Re-estimate Provided","No Re-estimate Provided",ROUNDUP(L16,1)) -> No Re-estimate Provided | N16: =IF(M16="No Re-estimate Provided","No Re-estimate Provided",ROUNDUP(L16*H16,2)) -> No Re-estimate Provided | O16: =ROUNDUP('Payment Calculation Worksheet'!F39,1) -> #N/A | P16: =O16*H16 -> #N/A | Q16: =ROUNDUP(P16,2) -> #N/A
A17: ='Payment Calculation Worksheet'!C40 -> #N/A | B17: {=IF(altmwhrate <> "No Alternative Rate",IF(OR(authdate = altmwhdate, A17> YEAR(altmwhdate)),altmwhrate, authprice),authprice)} -> #N/A | C17: =Mred -> 0.8 | D17: =IF( 'Payment Calculation Worksheet'!$D$22 = "NOT YET",0,IF(A17>YEAR('Payment Calculation Worksheet'!$D$22),0.2,0)) -> 0 | E17: =IF( 'Payment Calculation Worksheet'!$D$23 = "NOT YET",0,IF(A17>YEAR('Payment Calculation Worksheet'!$D$23),0.2,0)) -> 0 | F17: =inflate^($A17-$A$6) -> #N/A | G17: =share -> 0.07 | H17: =B17*F17*share*(1-mwhred)*(1-D17)*(1-E17) -> #N/A | I17: =A17 -> #N/A | J17: =ROUNDUP('Payment Calculation Worksheet'!D40,1) -> #N/A | K17: =ROUNDUP(J17*H17,2) -> #N/A | L17: ='Payment Calculation Worksheet'!E40 -> No Re-estimate Provided | M17: =IF(L17="No Re-estimate Provided","No Re-estimate Provided",ROUNDUP(L17,1)) -> No Re-estimate Provided | N17: =IF(M17="No Re-estimate Provided","No Re-estimate Provided",ROUNDUP(L17*H17,2)) -> No Re-estimate Provided | O17: =ROUNDUP('Payment Calculation Worksheet'!F40,1) -> #N/A | P17: =O17*H17 -> #N/A | Q17: =ROUNDUP(P17,2) -> #N/A
... A56: ='Payment Calculation Worksheet'!C79 -> #N/A | B56: {=IF(altmwhrate <> "No Alternative Rate",IF(OR(authdate = altmwhdate, A56> YEAR(altmwhdate)),altmwhrate, authprice),authprice)} -> #N/A | C56: =Mred -> 0.8 | D56: =IF( 'Payment Calculation Worksheet'!$D$22 = "NOT YET",0,IF(A56>YEAR('Payment Calculation Worksheet'!$D$22),0.2,0)) -> 0 | E56: =IF( 'Payment Calculation Worksheet'!$D$23 = "NOT YET",0,IF(A56>YEAR('Payment Calculation Worksheet'!$D$23),0.2,0)) -> 0 | F56: =inflate^($A56-$A$6) -> #N/A | G56: =share -> 0.07 | H56: =B56*F56*share*(1-mwhred)*(1-D56)*(1-E56) -> #N/A | I56: =A56 -> #N/A | J56: =ROUNDUP('Payment Calculation Worksheet'!D79,1) -> #N/A | K56: =ROUNDUP(J56*H56,2) -> #N/A | L56: ='Payment Calculation Worksheet'!E79 -> No Re-estimate Provided | M56: =IF(L56="No Re-estimate Provided","No Re-estimate Provided",ROUNDUP(L56,1)) -> No Re-estimate Provided | N56: =IF(M56="No Re-estimate Provided","No Re-estimate Provided",ROUNDUP(L56*H56,2)) -> No Re-estimate Provided | O56: =ROUNDUP('Payment Calculation Worksheet'!F79,1) -> #N/A | P56: =O56*H56 -> #N/A | Q56: =ROUNDUP(P56,2) -> #N/A
A57: ='Payment Calculation Worksheet'!C81 -> 0
A58: ='Payment Calculation Worksheet'!C82 -> 0
A59: ='Payment Calculation Worksheet'!C83 -> 0
A60: ='Payment Calculation Worksheet'!C84 -> 0
A61: ='Payment Calculation Worksheet'!C85 -> 0
A62: ='Payment Calculation Worksheet'!C86 -> 0
A63: ='Payment Calculation Worksheet'!C87 -> 0
A64: ='Payment Calculation Worksheet'!C88 -> 0
A65: ='Payment Calculation Worksheet'!C89 -> 0
A66: ='Payment Calculation Worksheet'!C90 -> 0
A67: ='Payment Calculation Worksheet'!C91 -> 0
A68: ='Payment Calculation Worksheet'!C92 -> 0
... A72: ='Payment Calculation Worksheet'!C96 -> 0

Sheet HIDDEN Bill Pay Est.Act
H4: Truing-up and rebilling
C5: Acreage Rent from "HIDDEN Rent calc" | D5: Year | E5: Estimated bill, higher of rent v. fee (rounded) | F5: Re-estimated bill, higher of rent v. fee (rounded) | G5: Initial Bill Amount (rounded) | I5: Updated capacity fee. Repeats from fee tab | K5: Actual Bill Amount | L5: Rebill?
C6: ='HIDDEN Rent calc'!B9 -> #N/A | D6: ='Payment Calculation Worksheet'!C29 -> 1900 | E6: =MAX(C6,'HIDDEN MWh Fee Calculation'!K6) -> #N/A | F6: =IF('HIDDEN MWh Fee Calculation'!N6<>"No Re-estimate Provided",MAX(C6,'HIDDEN MWh Fee Calculation'!N6),"No Re-estimate Provided") -> No Re-estimate Provided | G6: =IF('HIDDEN MWh Fee Calculation'!L6="No Re-estimate Provided",E6,F6) -> #N/A | I6: ='HIDDEN MWh Fee Calculation'!Q6 -> #N/A | K6: =MAX(I6,C6) -> #N/A | L6: =IF(K6=G6,"no","yes") -> #N/A
C7: ='HIDDEN Rent calc'!B10 -> #N/A | D7: ='Payment Calculation Worksheet'!C30 -> #N/A | E7: =MAX(C7,'HIDDEN MWh Fee Calculation'!K7) -> #N/A | F7: =IF('HIDDEN MWh Fee Calculation'!N7<>"No Re-estimate Provided",MAX(C7,'HIDDEN MWh Fee Calculation'!N7),"No Re-estimate Provided") -> No Re-estimate Provided | G7: =IF('HIDDEN MWh Fee Calculation'!L7="No Re-estimate Provided",E7,F7) -> #N/A | I7: ='HIDDEN MWh Fee Calculation'!Q7 -> #N/A | K7: =MAX(I7,C7) -> #N/A | L7: =IF(K7=G7,"no","yes") -> #N/A
C8: ='HIDDEN Rent calc'!B11 -> #N/A | D8: ='Payment Calculation Worksheet'!C31 -> #N/A | E8: =MAX(C8,'HIDDEN MWh Fee Calculation'!K8) -> #N/A | F8: =IF('HIDDEN MWh Fee Calculation'!N8<>"No Re-estimate Provided",MAX(C8,'HIDDEN MWh Fee Calculation'!N8),"No Re-estimate Provided") -> No Re-estimate Provided | G8: =IF('HIDDEN MWh Fee Calculation'!L8="No Re-estimate Provided",E8,F8) -> #N/A | I8: ='HIDDEN MWh Fee Calculation'!Q8 -> #N/A | K8: =MAX(I8,C8) -> #N/A | L8: =IF(K8=G8,"no","yes") -> #N/A
C9: ='HIDDEN Rent calc'!B12 -> #N/A | D9: ='Payment Calculation Worksheet'!C32 -> #N/A | E9: =MAX(C9,'HIDDEN MWh Fee Calculation'!K9) -> #N/A | F9: =IF('HIDDEN MWh Fee Calculation'!N9<>"No Re-estimate Provided",MAX(C9,'HIDDEN MWh Fee Calculation'!N9),"No Re-estimate Provided") -> No Re-estimate Provided | G9: =IF('HIDDEN MWh Fee Calculation'!L9="No Re-estimate Provided",E9,F9) -> #N/A | I9: ='HIDDEN MWh Fee Calculation'!Q9 -> #N/A | K9: =MAX(I9,C9) -> #N/A | L9: =IF(K9=G9,"no","yes") -> #N/A
C10: ='HIDDEN Rent calc'!B13 -> #N/A | D10: ='Payment Calculation Worksheet'!C33 -> #N/A | E10: =MAX(C10,'HIDDEN MWh Fee Calculation'!K10) -> #N/A | F10: =IF('HIDDEN MWh Fee Calculation'!N10<>"No Re-estimate Provided",MAX(C10,'HIDDEN MWh Fee Calculation'!N10),"No Re-estimate Provided") -> No Re-estimate Provided | G10: =IF('HIDDEN MWh Fee Calculation'!L10="No Re-estimate Provided",E10,F10) -> #N/A | I10: ='HIDDEN MWh Fee Calculation'!Q10 -> #N/A | K10: =MAX(I10,C10) -> #N/A | L10: =IF(K10=G10,"no","yes") -> #N/A
C11: ='HIDDEN Rent calc'!B14 -> #N/A | D11: ='Payment Calculation Worksheet'!C34 -> #N/A | E11: =MAX(C11,'HIDDEN MWh Fee Calculation'!K11) -> #N/A | F11: =IF('HIDDEN MWh Fee Calculation'!N11<>"No Re-estimate Provided",MAX(C11,'HIDDEN MWh Fee Calculation'!N11),"No Re-estimate Provided") -> No Re-estimate Provided | G11: =IF('HIDDEN MWh Fee Calculation'!L11="No Re-estimate Provided",E11,F11) -> #N/A | I11: ='HIDDEN MWh Fee Calculation'!Q11 -> #N/A | K11: =MAX(I11,C11) -> #N/A | L11: =IF(K11=G11,"no","yes") -> #N/A
C12: ='HIDDEN Rent calc'!B15 -> #N/A | D12: ='Payment Calculation Worksheet'!C35 -> #N/A | E12: =MAX(C12,'HIDDEN MWh Fee Calculation'!K12) -> #N/A | F12: =IF('HIDDEN MWh Fee Calculation'!N12<>"No Re-estimate Provided",MAX(C12,'HIDDEN MWh Fee Calculation'!N12),"No Re-estimate Provided") -> No Re-estimate Provided | G12: =IF('HIDDEN MWh Fee Calculation'!L12="No Re-estimate Provided",E12,F12) -> #N/A | I12: ='HIDDEN MWh Fee Calculation'!Q12 -> #N/A | K12: =MAX(I12,C12) -> #N/A | L12: =IF(K12=G12,"no","yes") -> #N/A
C13: ='HIDDEN Rent calc'!B16 -> #N/A | D13: ='Payment Calculation Worksheet'!C36 -> #N/A | E13: =MAX(C13,'HIDDEN MWh Fee Calculation'!K13) -> #N/A | F13: =IF('HIDDEN MWh Fee Calculation'!N13<>"No Re-estimate Provided",MAX(C13,'HIDDEN MWh Fee Calculation'!N13),"No Re-estimate Provided") -> No Re-estimate Provided | G13: =IF('HIDDEN MWh Fee Calculation'!L13="No Re-estimate Provided",E13,F13) -> #N/A | I13: ='HIDDEN MWh Fee Calculation'!Q13 -> #N/A | K13: =MAX(I13,C13) -> #N/A | L13: =IF(K13=G13,"no","yes") -> #N/A
C14: ='HIDDEN Rent calc'!B17 -> #N/A | D14: ='Payment Calculation Worksheet'!C37 -> #N/A | E14: =MAX(C14,'HIDDEN MWh Fee Calculation'!K14) -> #N/A | F14: =IF('HIDDEN MWh Fee Calculation'!N14<>"No Re-estimate Provided",MAX(C14,'HIDDEN MWh Fee Calculation'!N14),"No Re-estimate Provided") -> No Re-estimate Provided | G14: =IF('HIDDEN MWh Fee Calculation'!L14="No Re-estimate Provided",E14,F14) -> #N/A | I14: ='HIDDEN MWh Fee Calculation'!Q14 -> #N/A | K14: =MAX(I14,C14) -> #N/A | L14: =IF(K14=G14,"no","yes") -> #N/A
C15: ='HIDDEN Rent calc'!B18 -> #N/A | D15: ='Payment Calculation Worksheet'!C38 -> #N/A | E15: =MAX(C15,'HIDDEN MWh Fee Calculation'!K15) -> #N/A | F15: =IF('HIDDEN MWh Fee Calculation'!N15<>"No Re-estimate Provided",MAX(C15,'HIDDEN MWh Fee Calculation'!N15),"No Re-estimate Provided") -> No Re-estimate Provided | G15: =IF('HIDDEN MWh Fee Calculation'!L15="No Re-estimate Provided",E15,F15) -> #N/A | I15: ='HIDDEN MWh Fee Calculation'!Q15 -> #N/A | K15: =MAX(I15,C15) -> #N/A | L15: =IF(K15=G15,"no","yes") -> #N/A
C16: ='HIDDEN Rent calc'!B19 -> #N/A | D16: ='Payment Calculation Worksheet'!C39 -> #N/A | E16: =MAX(C16,'HIDDEN MWh Fee Calculation'!K16) -> #N/A | F16: =IF('HIDDEN MWh Fee Calculation'!N16<>"No Re-estimate Provided",MAX(C16,'HIDDEN MWh Fee Calculation'!N16),"No Re-estimate Provided") -> No Re-estimate Provided | G16: =IF('HIDDEN MWh Fee Calculation'!L16="No Re-estimate Provided",E16,F16) -> #N/A | I16: ='HIDDEN MWh Fee Calculation'!Q16 -> #N/A | K16: =MAX(I16,C16) -> #N/A | L16: =IF(K16=G16,"no","yes") -> #N/A
C17: ='HIDDEN Rent calc'!B20 -> #N/A | D17: ='Payment Calculation Worksheet'!C40 -> #N/A | E17: =MAX(C17,'HIDDEN MWh Fee Calculation'!K17) -> #N/A | F17: =IF('HIDDEN MWh Fee Calculation'!N17<>"No Re-estimate Provided",MAX(C17,'HIDDEN MWh Fee Calculation'!N17),"No Re-estimate Provided") -> No Re-estimate Provided | G17: =IF('HIDDEN MWh Fee Calculation'!L17="No Re-estimate Provided",E17,F17) -> #N/A | I17: ='HIDDEN MWh Fee Calculation'!Q17 -> #N/A | K17: =MAX(I17,C17) -> #N/A | L17: =IF(K17=G17,"no","yes") -> #N/A
... C56: ='HIDDEN Rent calc'!B59 -> #N/A | D56: ='Payment Calculation Worksheet'!C79 -> #N/A | E56: =MAX(C56,'HIDDEN MWh Fee Calculation'!K56) -> #N/A | F56: =IF('HIDDEN MWh Fee Calculation'!N56<>"No Re-estimate Provided",MAX(C56,'HIDDEN MWh Fee Calculation'!N56),"No Re-estimate Provided") -> No Re-estimate Provided | G56: =IF('HIDDEN MWh Fee Calculation'!L56="No Re-estimate Provided",E56,F56) -> #N/A | I56: ='HIDDEN MWh Fee Calculation'!Q56 -> #N/A | K56: =MAX(I56,C56) -> #N/A | L56: =IF(K56=G56,"no","yes") -> #N/A
